BEGIN:VCALENDAR
VERSION:2.0
PRODID:icalendar-ruby
CALSCALE:GREGORIAN
METHOD:PUBLISH
BEGIN:VEVENT
DTSTAMP:20260422T022156Z
UID:5-406606@peacecommunity.tithelysetup2.com
DTSTART:20260510T170000Z
DTEND:20260510T180000Z
CLASS:PUBLIC
CREATED:20260421T084823
DESCRIPTION:Sunday Worship
LAST-MODIFIED:20260421T084823
LOCATION:
SUMMARY:Sunday Worship
URL;VALUE=URI:https://peacecommunity.tithelysetup2.com/events/sunday-worshi
 p/2026-05-10
END:VEVENT
END:VCALENDAR
